BEGIN:VCALENDAR
VERSION:2.0
PRODID:-//Cornerstone Church St Helena Bay - ECPv6.15.20//NONSGML v1.0//EN
CALSCALE:GREGORIAN
METHOD:PUBLISH
X-ORIGINAL-URL:https://cornerstone-st-helena.co.za
X-WR-CALDESC:Events for Cornerstone Church St Helena Bay
REFRESH-INTERVAL;VALUE=DURATION:PT1H
X-Robots-Tag:noindex
X-PUBLISHED-TTL:PT1H
BEGIN:VTIMEZONE
TZID:UTC
BEGIN:STANDARD
TZOFFSETFROM:+0000
TZOFFSETTO:+0000
TZNAME:UTC
DTSTART:20230101T000000
END:STANDARD
END:VTIMEZONE
BEGIN:VEVENT
DTSTART;TZID=UTC:20250407T180000
DTEND;TZID=UTC:20250407T200000
DTSTAMP:20260419T135754
CREATED:20250430T180046Z
LAST-MODIFIED:20250407T064340Z
UID:1957-1744048800-1744056000@cornerstone-st-helena.co.za
SUMMARY:Life Groups week 4
DESCRIPTION:
URL:https://cornerstone-st-helena.co.za/event/life-groups-week-1/
CATEGORIES:Wednesday
END:VEVENT
BEGIN:VEVENT
DTSTART;TZID=UTC:20250326T183000
DTEND;TZID=UTC:20250326T200000
DTSTAMP:20260419T135754
CREATED:20250423T180019Z
LAST-MODIFIED:20250407T064327Z
UID:1809-1743013800-1743019200@cornerstone-st-helena.co.za
SUMMARY:Life Groups week 3
DESCRIPTION:
URL:https://cornerstone-st-helena.co.za/event/life-groups-week-3/
CATEGORIES:Wednesday
END:VEVENT
BEGIN:VEVENT
DTSTART;TZID=UTC:20250319T183000
DTEND;TZID=UTC:20250319T200000
DTSTAMP:20260419T135754
CREATED:20250416T180034Z
LAST-MODIFIED:20250407T064312Z
UID:1806-1742409000-1742414400@cornerstone-st-helena.co.za
SUMMARY:Life Groups week 2
DESCRIPTION:
URL:https://cornerstone-st-helena.co.za/event/life-groups-week-2/
CATEGORIES:Wednesday
END:VEVENT
BEGIN:VEVENT
DTSTART;TZID=UTC:20250312T183000
DTEND;TZID=UTC:20250312T200000
DTSTAMP:20260419T135754
CREATED:20250409T080057Z
LAST-MODIFIED:20250407T064308Z
UID:1791-1741804200-1741809600@cornerstone-st-helena.co.za
SUMMARY:Life Groups week 1
DESCRIPTION:
URL:https://cornerstone-st-helena.co.za/event/lifegroups/
CATEGORIES:Wednesday
END:VEVENT
BEGIN:VEVENT
DTSTART;TZID=UTC:20250223T080000
DTEND;TZID=UTC:20250223T170000
DTSTAMP:20260419T135754
CREATED:20250131T082611Z
LAST-MODIFIED:20250131T082611Z
UID:1495-1740297600-1740330000@cornerstone-st-helena.co.za
SUMMARY:Matthew 5 : 14-16
DESCRIPTION:
URL:https://cornerstone-st-helena.co.za/event/matthew-5-14-16/
END:VEVENT
BEGIN:VEVENT
DTSTART;TZID=UTC:20250216T080000
DTEND;TZID=UTC:20250216T170000
DTSTAMP:20260419T135754
CREATED:20250131T082542Z
LAST-MODIFIED:20250131T082542Z
UID:1493-1739692800-1739725200@cornerstone-st-helena.co.za
SUMMARY:Acts 1 : 6 -11
DESCRIPTION:
URL:https://cornerstone-st-helena.co.za/event/acts-1-6-11/
END:VEVENT
BEGIN:VEVENT
DTSTART;TZID=UTC:20250209T080000
DTEND;TZID=UTC:20250209T170000
DTSTAMP:20260419T135754
CREATED:20250131T082513Z
LAST-MODIFIED:20250131T082513Z
UID:1491-1739088000-1739120400@cornerstone-st-helena.co.za
SUMMARY:Matthew 28:16-20
DESCRIPTION:
URL:https://cornerstone-st-helena.co.za/event/matthew-2816-20/
END:VEVENT
BEGIN:VEVENT
DTSTART;TZID=UTC:20250202T080000
DTEND;TZID=UTC:20250202T170000
DTSTAMP:20260419T135754
CREATED:20250131T082357Z
LAST-MODIFIED:20250131T082357Z
UID:1484-1738483200-1738515600@cornerstone-st-helena.co.za
SUMMARY:Luke 5:1-11
DESCRIPTION:
URL:https://cornerstone-st-helena.co.za/event/luke-51-11/
END:VEVENT
BEGIN:VEVENT
DTSTART;TZID=UTC:20250106T080000
DTEND;TZID=UTC:20250111T170000
DTSTAMP:20260419T135754
CREATED:20241210T201914Z
LAST-MODIFIED:20241210T201914Z
UID:547-1736150400-1736614800@cornerstone-st-helena.co.za
SUMMARY:Week of prayer and fasting
DESCRIPTION:
URL:https://cornerstone-st-helena.co.za/event/week-of-prayer-and-fasting/
END:VEVENT
BEGIN:VEVENT
DTSTART;TZID=UTC:20241225T090000
DTEND;TZID=UTC:20241225T100000
DTSTAMP:20260419T135754
CREATED:20241210T104043Z
LAST-MODIFIED:20241217T201106Z
UID:515-1735117200-1735120800@cornerstone-st-helena.co.za
SUMMARY:Christmas Day Service
DESCRIPTION:
URL:https://cornerstone-st-helena.co.za/event/515/
CATEGORIES:Christmas & Easter Celebrations
END:VEVENT
END:VCALENDAR